BEGIN:VCALENDAR
VERSION:2.0
PRODID:-//Mouse Creek Golf Course - ECPv6.15.18//NONSGML v1.0//EN
CALSCALE:GREGORIAN
METHOD:PUBLISH
X-ORIGINAL-URL:https://www.mousecreekgolfcourse.com
X-WR-CALDESC:Events for Mouse Creek Golf Course
REFRESH-INTERVAL;VALUE=DURATION:PT1H
X-Robots-Tag:noindex
X-PUBLISHED-TTL:PT1H
BEGIN:VTIMEZONE
TZID:UTC
BEGIN:STANDARD
TZOFFSETFROM:+0000
TZOFFSETTO:+0000
TZNAME:UTC
DTSTART:20240101T000000
END:STANDARD
END:VTIMEZONE
BEGIN:VEVENT
DTSTART;VALUE=DATE:20251129
DTEND;VALUE=DATE:20251130
DTSTAMP:20260423T104851
CREATED:20251025T121752Z
LAST-MODIFIED:20251025T121752Z
UID:10000166-1764374400-1764460799@www.mousecreekgolfcourse.com
SUMMARY:Black Friday Tournament
DESCRIPTION:Great day after you have stuffed your face on Thanksgiving!  We will feed you great food too! Contact us to sign up!
URL:https://www.mousecreekgolfcourse.com/event/black-friday-tournament/
END:VEVENT
END:VCALENDAR